BEGIN:VCALENDAR
VERSION:2.0
PRODID:-//ANEW - ECPv6.15.20//NONSGML v1.0//EN
CALSCALE:GREGORIAN
METHOD:PUBLISH
X-ORIGINAL-URL:https://anewcareer.org
X-WR-CALDESC:Events for ANEW
REFRESH-INTERVAL;VALUE=DURATION:PT1H
X-Robots-Tag:noindex
X-PUBLISHED-TTL:PT1H
BEGIN:VTIMEZONE
TZID:America/Los_Angeles
BEGIN:DAYLIGHT
TZOFFSETFROM:-0800
TZOFFSETTO:-0700
TZNAME:PDT
DTSTART:20190310T100000
END:DAYLIGHT
BEGIN:STANDARD
TZOFFSETFROM:-0700
TZOFFSETTO:-0800
TZNAME:PST
DTSTART:20191103T090000
END:STANDARD
BEGIN:DAYLIGHT
TZOFFSETFROM:-0800
TZOFFSETTO:-0700
TZNAME:PDT
DTSTART:20200308T100000
END:DAYLIGHT
BEGIN:STANDARD
TZOFFSETFROM:-0700
TZOFFSETTO:-0800
TZNAME:PST
DTSTART:20201101T090000
END:STANDARD
BEGIN:DAYLIGHT
TZOFFSETFROM:-0800
TZOFFSETTO:-0700
TZNAME:PDT
DTSTART:20210314T100000
END:DAYLIGHT
BEGIN:STANDARD
TZOFFSETFROM:-0700
TZOFFSETTO:-0800
TZNAME:PST
DTSTART:20211107T090000
END:STANDARD
END:VTIMEZONE
BEGIN:VEVENT
DTSTART;VALUE=DATE:20201216
DTEND;VALUE=DATE:20201217
DTSTAMP:20260420T042128
CREATED:20200326T211346Z
LAST-MODIFIED:20201210T201348Z
UID:31980-1608076800-1608163199@anewcareer.org
SUMMARY:Recorded Pre-Apprenticeship Program Info Session - Watch Anytime!
DESCRIPTION:Interested in learning more about our pre-apprenticeship programs leading to a career starting at $20-$30+/hour? Now you don’t need to wait or sign up for one of our live info sessions! \nWe’ve recorded an info session that can be accessed anywhere and anytime via the link attached:
URL:https://anewcareer.org/event/recorded-pre-apprenticeship-program-info-session-watch-anytime/
LOCATION:WA
CATEGORIES:Info Sessions
END:VEVENT
BEGIN:VEVENT
DTSTART;VALUE=DATE:20201216
DTEND;VALUE=DATE:20201217
DTSTAMP:20260420T042128
CREATED:20200326T211346Z
LAST-MODIFIED:20201210T201348Z
UID:31980-1608076800-1608163199@anewcareer.org
SUMMARY:Recorded Pre-Apprenticeship Program Info Session - Watch Anytime!
DESCRIPTION:Interested in learning more about our pre-apprenticeship programs leading to a career starting at $20-$30+/hour? Now you don’t need to wait or sign up for one of our live info sessions! \nWe’ve recorded an info session that can be accessed anywhere and anytime via the link attached:
URL:https://anewcareer.org/event/recorded-pre-apprenticeship-program-info-session-watch-anytime/
LOCATION:WA
CATEGORIES:Info Sessions
END:VEVENT
BEGIN:VEVENT
DTSTART;VALUE=DATE:20201216
DTEND;VALUE=DATE:20201217
DTSTAMP:20260420T042128
CREATED:20200326T211346Z
LAST-MODIFIED:20201210T201348Z
UID:31980-1608076800-1608163199@anewcareer.org
SUMMARY:Recorded Pre-Apprenticeship Program Info Session - Watch Anytime!
DESCRIPTION:Interested in learning more about our pre-apprenticeship programs leading to a career starting at $20-$30+/hour? Now you don’t need to wait or sign up for one of our live info sessions! \nWe’ve recorded an info session that can be accessed anywhere and anytime via the link attached:
URL:https://anewcareer.org/event/recorded-pre-apprenticeship-program-info-session-watch-anytime/
LOCATION:WA
CATEGORIES:Info Sessions
END:VEVENT
END:VCALENDAR