BEGIN:VCALENDAR
VERSION:2.0
PRODID:-//ANEW - ECPv6.15.20//NONSGML v1.0//EN
CALSCALE:GREGORIAN
METHOD:PUBLISH
X-WR-CALNAME:ANEW
X-ORIGINAL-URL:https://anewcareer.org
X-WR-CALDESC:Events for ANEW
REFRESH-INTERVAL;VALUE=DURATION:PT1H
X-Robots-Tag:noindex
X-PUBLISHED-TTL:PT1H
BEGIN:VTIMEZONE
TZID:America/Los_Angeles
BEGIN:DAYLIGHT
TZOFFSETFROM:-0800
TZOFFSETTO:-0700
TZNAME:PDT
DTSTART:20220313T100000
END:DAYLIGHT
BEGIN:STANDARD
TZOFFSETFROM:-0700
TZOFFSETTO:-0800
TZNAME:PST
DTSTART:20221106T090000
END:STANDARD
BEGIN:DAYLIGHT
TZOFFSETFROM:-0800
TZOFFSETTO:-0700
TZNAME:PDT
DTSTART:20230312T100000
END:DAYLIGHT
BEGIN:STANDARD
TZOFFSETFROM:-0700
TZOFFSETTO:-0800
TZNAME:PST
DTSTART:20231105T090000
END:STANDARD
BEGIN:DAYLIGHT
TZOFFSETFROM:-0800
TZOFFSETTO:-0700
TZNAME:PDT
DTSTART:20240310T100000
END:DAYLIGHT
BEGIN:STANDARD
TZOFFSETFROM:-0700
TZOFFSETTO:-0800
TZNAME:PST
DTSTART:20241103T090000
END:STANDARD
END:VTIMEZONE
BEGIN:VEVENT
DTSTART;TZID=America/Los_Angeles:20230928T080000
DTEND;TZID=America/Los_Angeles:20230928T130000
DTSTAMP:20260420T234653
CREATED:20230910T223819Z
LAST-MODIFIED:20230910T223819Z
UID:42753-1695888000-1695906000@anewcareer.org
SUMMARY:2023 Inclusion Summit Follow Up Conference
DESCRIPTION:You are invited to join ANEW and the US Department of Labor Women’s Bureau and the International Labour Organization Office and Canada on a Regional Conversation to discuss Gender-Based Violence and Harassment in the World of Work. This conversation will include representation from different sectors including construction\, transportation\, hospitality\, healthcare and the public sector. \nThis event is FREE to attend!\nDate: Thursday\, September 28th\, 2023\nTime: 8:00am – 1:00pm\nLocation: Emerald Downs – 2300 Ron Crockett Dr\, Auburn\, WA 98001\nREGISTER NOW
URL:https://anewcareer.org/event/2023-inclusion-summit-follow-up-conference/
LOCATION:Emerald Downs\, 2300 Ron Crockett Drive\, Auburn\, WA\, 98001\, United States
CATEGORIES:Diversity & Inclusion,Info Sessions,Networking Event,Other Events,Outreach Events / Community Service
ATTACH;FMTTYPE=image/jpeg:https://anewcareer.org/wp-content/uploads/2023/09/Inclusion-Summit-Follow-Up-Header.jpg
END:VEVENT
END:VCALENDAR