BEGIN:VCALENDAR
VERSION:2.0
PRODID:-//ANEW - ECPv6.15.20//NONSGML v1.0//EN
CALSCALE:GREGORIAN
METHOD:PUBLISH
X-WR-CALNAME:ANEW
X-ORIGINAL-URL:https://anewcareer.org
X-WR-CALDESC:Events for ANEW
REFRESH-INTERVAL;VALUE=DURATION:PT1H
X-Robots-Tag:noindex
X-PUBLISHED-TTL:PT1H
BEGIN:VTIMEZONE
TZID:America/Los_Angeles
BEGIN:DAYLIGHT
TZOFFSETFROM:-0800
TZOFFSETTO:-0700
TZNAME:PDT
DTSTART:20220313T100000
END:DAYLIGHT
BEGIN:STANDARD
TZOFFSETFROM:-0700
TZOFFSETTO:-0800
TZNAME:PST
DTSTART:20221106T090000
END:STANDARD
BEGIN:DAYLIGHT
TZOFFSETFROM:-0800
TZOFFSETTO:-0700
TZNAME:PDT
DTSTART:20230312T100000
END:DAYLIGHT
BEGIN:STANDARD
TZOFFSETFROM:-0700
TZOFFSETTO:-0800
TZNAME:PST
DTSTART:20231105T090000
END:STANDARD
BEGIN:DAYLIGHT
TZOFFSETFROM:-0800
TZOFFSETTO:-0700
TZNAME:PDT
DTSTART:20240310T100000
END:DAYLIGHT
BEGIN:STANDARD
TZOFFSETFROM:-0700
TZOFFSETTO:-0800
TZNAME:PST
DTSTART:20241103T090000
END:STANDARD
END:VTIMEZONE
BEGIN:VEVENT
DTSTART;TZID=America/Los_Angeles:20230629T110000
DTEND;TZID=America/Los_Angeles:20230629T130000
DTSTAMP:20260421T112312
CREATED:20230623T212441Z
LAST-MODIFIED:20230627T160739Z
UID:38334-1688036400-1688043600@anewcareer.org
SUMMARY:ANEW's PACE 37 Graduation - Pierce
DESCRIPTION:Join us as we celebrate the graduation of our PACE 37 class!\nEvery student has worked hard to complete our pre-apprenticeship training and will be heading out into the construction industry from here – come send them off well! Be inspired by the stories of our students and guest speakers who all have had their lives changed by having access to a skilled trades career. \nRefreshments and food provided.
URL:https://anewcareer.org/event/anews-pace-37-graduation-pierce/
LOCATION:Bates Technical College – South Campus (2201 S 78th St\, Tacoma\, Wa)\, 2201 S 78th St\, Tacoma\, WA\, 98409\, United States
CATEGORIES:Other Events,PACE Cohort Event
END:VEVENT
BEGIN:VEVENT
DTSTART;TZID=America/Los_Angeles:20230630T110000
DTEND;TZID=America/Los_Angeles:20230630T130000
DTSTAMP:20260421T112312
CREATED:20230623T211115Z
LAST-MODIFIED:20230623T212651Z
UID:38331-1688122800-1688130000@anewcareer.org
SUMMARY:ANEW's PACE 36 Graduation - Tukwila
DESCRIPTION:Join us as we celebrate the graduation of our PACE 36 class!\nEvery student has worked hard to complete our pre-apprenticeship training and will be heading out into the construction industry from here – come send them off well! Be inspired by the stories of our students and guest speaker who all have had their lives changed by having access to a skilled trades career. \nRefreshments and food provided.
URL:https://anewcareer.org/event/anew-pace-36-graduation/
LOCATION:ANEW Training Center\, 18338 Andover Park W\, Seattle\, WA\, 98188\, United States
CATEGORIES:Other Events,PACE Cohort Event
END:VEVENT
END:VCALENDAR