BEGIN:VCALENDAR
VERSION:2.0
PRODID:-//ANEW - ECPv6.15.20//NONSGML v1.0//EN
CALSCALE:GREGORIAN
METHOD:PUBLISH
X-ORIGINAL-URL:https://anewcareer.org
X-WR-CALDESC:Events for ANEW
REFRESH-INTERVAL;VALUE=DURATION:PT1H
X-Robots-Tag:noindex
X-PUBLISHED-TTL:PT1H
BEGIN:VTIMEZONE
TZID:America/Los_Angeles
BEGIN:DAYLIGHT
TZOFFSETFROM:-0800
TZOFFSETTO:-0700
TZNAME:PDT
DTSTART:20220313T100000
END:DAYLIGHT
BEGIN:STANDARD
TZOFFSETFROM:-0700
TZOFFSETTO:-0800
TZNAME:PST
DTSTART:20221106T090000
END:STANDARD
BEGIN:DAYLIGHT
TZOFFSETFROM:-0800
TZOFFSETTO:-0700
TZNAME:PDT
DTSTART:20230312T100000
END:DAYLIGHT
BEGIN:STANDARD
TZOFFSETFROM:-0700
TZOFFSETTO:-0800
TZNAME:PST
DTSTART:20231105T090000
END:STANDARD
BEGIN:DAYLIGHT
TZOFFSETFROM:-0800
TZOFFSETTO:-0700
TZNAME:PDT
DTSTART:20240310T100000
END:DAYLIGHT
BEGIN:STANDARD
TZOFFSETFROM:-0700
TZOFFSETTO:-0800
TZNAME:PST
DTSTART:20241103T090000
END:STANDARD
END:VTIMEZONE
BEGIN:VEVENT
DTSTART;VALUE=DATE:20231123
DTEND;VALUE=DATE:20231125
DTSTAMP:20260421T034426
CREATED:20230627T161518Z
LAST-MODIFIED:20230627T161518Z
UID:38359-1700697600-1700870399@anewcareer.org
SUMMARY:ANEW - Closed for Thanksgiving Weekend
DESCRIPTION:ANEW and its services will be closed Thursday\, November 23rd and Friday\, November 24th in observance of Thanksgiving.
URL:https://anewcareer.org/event/anew-closed-11-23-24-2023/
CATEGORIES:Info Sessions,Other Events,PACE Cohort Event,TRP Cohort Event
END:VEVENT
BEGIN:VEVENT
DTSTART;TZID=America/Los_Angeles:20231129T130000
DTEND;TZID=America/Los_Angeles:20231129T150000
DTSTAMP:20260421T034426
CREATED:20231108T224059Z
LAST-MODIFIED:20231128T235845Z
UID:43012-1701262800-1701270000@anewcareer.org
SUMMARY:ANEW's PACE 40 Graduation - Tukwila
DESCRIPTION:Join us as we celebrate the graduation of our PACE 40 class!\nEvery student has worked hard to complete our pre-apprenticeship training and will be heading out into the construction industry from here – come send them off well! Be inspired by the stories of our students and guest speaker who all have had their lives changed by having access to a skilled trades career. \nRefreshments and food provided.
URL:https://anewcareer.org/event/anews-pace-40-graduation-tukwila/
LOCATION:ANEW Training Center\, 18338 Andover Park W\, Seattle\, WA\, 98188\, United States
CATEGORIES:Info Sessions,Other Events,PACE Cohort Event
END:VEVENT
END:VCALENDAR