BEGIN:VCALENDAR
VERSION:2.0
PRODID:-//ANEW - ECPv6.15.20//NONSGML v1.0//EN
CALSCALE:GREGORIAN
METHOD:PUBLISH
X-WR-CALNAME:ANEW
X-ORIGINAL-URL:https://anewcareer.org
X-WR-CALDESC:Events for ANEW
REFRESH-INTERVAL;VALUE=DURATION:PT1H
X-Robots-Tag:noindex
X-PUBLISHED-TTL:PT1H
BEGIN:VTIMEZONE
TZID:America/Los_Angeles
BEGIN:DAYLIGHT
TZOFFSETFROM:-0800
TZOFFSETTO:-0700
TZNAME:PDT
DTSTART:20220313T100000
END:DAYLIGHT
BEGIN:STANDARD
TZOFFSETFROM:-0700
TZOFFSETTO:-0800
TZNAME:PST
DTSTART:20221106T090000
END:STANDARD
BEGIN:DAYLIGHT
TZOFFSETFROM:-0800
TZOFFSETTO:-0700
TZNAME:PDT
DTSTART:20230312T100000
END:DAYLIGHT
BEGIN:STANDARD
TZOFFSETFROM:-0700
TZOFFSETTO:-0800
TZNAME:PST
DTSTART:20231105T090000
END:STANDARD
BEGIN:DAYLIGHT
TZOFFSETFROM:-0800
TZOFFSETTO:-0700
TZNAME:PDT
DTSTART:20240310T100000
END:DAYLIGHT
BEGIN:STANDARD
TZOFFSETFROM:-0700
TZOFFSETTO:-0800
TZNAME:PST
DTSTART:20241103T090000
END:STANDARD
BEGIN:DAYLIGHT
TZOFFSETFROM:-0800
TZOFFSETTO:-0700
TZNAME:PDT
DTSTART:20250309T100000
END:DAYLIGHT
BEGIN:STANDARD
TZOFFSETFROM:-0700
TZOFFSETTO:-0800
TZNAME:PST
DTSTART:20251102T090000
END:STANDARD
END:VTIMEZONE
BEGIN:VEVENT
DTSTART;VALUE=DATE:20231123
DTEND;VALUE=DATE:20231125
DTSTAMP:20260421T143056
CREATED:20230627T161518Z
LAST-MODIFIED:20230627T161518Z
UID:38359-1700697600-1700870399@anewcareer.org
SUMMARY:ANEW - Closed for Thanksgiving Weekend
DESCRIPTION:ANEW and its services will be closed Thursday\, November 23rd and Friday\, November 24th in observance of Thanksgiving.
URL:https://anewcareer.org/event/anew-closed-11-23-24-2023/
CATEGORIES:Info Sessions,Other Events,PACE Cohort Event,TRP Cohort Event
END:VEVENT
BEGIN:VEVENT
DTSTART;TZID=America/Los_Angeles:20231129T130000
DTEND;TZID=America/Los_Angeles:20231129T150000
DTSTAMP:20260421T143056
CREATED:20231108T224059Z
LAST-MODIFIED:20231128T235845Z
UID:43012-1701262800-1701270000@anewcareer.org
SUMMARY:ANEW's PACE 40 Graduation - Tukwila
DESCRIPTION:Join us as we celebrate the graduation of our PACE 40 class!\nEvery student has worked hard to complete our pre-apprenticeship training and will be heading out into the construction industry from here – come send them off well! Be inspired by the stories of our students and guest speaker who all have had their lives changed by having access to a skilled trades career. \nRefreshments and food provided.
URL:https://anewcareer.org/event/anews-pace-40-graduation-tukwila/
LOCATION:ANEW Training Center\, 18338 Andover Park W\, Seattle\, WA\, 98188\, United States
CATEGORIES:Info Sessions,Other Events,PACE Cohort Event
END:VEVENT
BEGIN:VEVENT
DTSTART;TZID=America/Los_Angeles:20231208T110000
DTEND;TZID=America/Los_Angeles:20231208T114500
DTSTAMP:20260421T143056
CREATED:20231205T203213Z
LAST-MODIFIED:20231205T203213Z
UID:43142-1702033200-1702035900@anewcareer.org
SUMMARY:YEP Bootcamp Graduation
DESCRIPTION:Please join us for a graduation and celebration for our Summit Sierra Bootcamp! You’ll get the hear 5 lovely speeches\, enjoy some food\, see their projects\, and get a chance to chat with our students. Hope to see you there! \n 
URL:https://anewcareer.org/event/yep-bootcamp-graduation/
LOCATION:ANEW Main Office\, 18338 Andover Park W.\, Tukwila\, WA\, 98188\, United States
CATEGORIES:Career Connected Learning,Info Sessions,Networking Event,Other Events
END:VEVENT
BEGIN:VEVENT
DTSTART;TZID=America/Los_Angeles:20231213T080000
DTEND;TZID=America/Los_Angeles:20231213T090000
DTSTAMP:20260421T143056
CREATED:20231211T191622Z
LAST-MODIFIED:20231211T191622Z
UID:43183-1702454400-1702458000@anewcareer.org
SUMMARY:CDL Program Info Session
DESCRIPTION:We are excited to announce two upcoming informational sessions for the CDL Class B with Passenger endorsement Cohort starting on 01/22/2024. To ensure we tailor these sessions to meet your needs and expectations\, please register here: https://forms.office.com/r/q9uLHhm0B6. \nRegister Now!
URL:https://anewcareer.org/event/cdl-program-info-session/
LOCATION:ANEW Main Office\, 18338 Andover Park W.\, Tukwila\, WA\, 98188\, United States
CATEGORIES:Info Sessions
END:VEVENT
BEGIN:VEVENT
DTSTART;TZID=America/Los_Angeles:20231213T110000
DTEND;TZID=America/Los_Angeles:20231213T130000
DTSTAMP:20260421T143056
CREATED:20231108T224659Z
LAST-MODIFIED:20231108T224659Z
UID:43015-1702465200-1702472400@anewcareer.org
SUMMARY:ANEW's TRP 121 Graduation
DESCRIPTION:Join us as we celebrate the graduation of our TRP 121 class and Sellen Donor Campaign!\nEvery student has worked hard to complete our pre-apprenticeship training and will be heading out into the construction industry from here – come send them off well! Be inspired by the stories of our students and guest speaker who all have had their lives changed by having access to a skilled trades career. \nRefreshments and food provided.
URL:https://anewcareer.org/event/anews-trp-121-graduation/
LOCATION:ANEW Training Center\, 18338 Andover Park W\, Seattle\, WA\, 98188\, United States
CATEGORIES:Info Sessions,Other Events,TRP Cohort Event
END:VEVENT
BEGIN:VEVENT
DTSTART;TZID=America/Los_Angeles:20231213T130000
DTEND;TZID=America/Los_Angeles:20231213T140000
DTSTAMP:20260421T143056
CREATED:20231211T191716Z
LAST-MODIFIED:20231211T191716Z
UID:43185-1702472400-1702476000@anewcareer.org
SUMMARY:CDL Program Info Session
DESCRIPTION:We are excited to announce two upcoming informational sessions for the CDL Class B with Passenger endorsement Cohort starting on 01/22/2024. To ensure we tailor these sessions to meet your needs and expectations\, please register here: https://forms.office.com/r/q9uLHhm0B6. \nRegister Now!
URL:https://anewcareer.org/event/cdl-program-info-session-2/
LOCATION:ANEW Main Office\, 18338 Andover Park W.\, Tukwila\, WA\, 98188\, United States
CATEGORIES:Info Sessions
END:VEVENT
BEGIN:VEVENT
DTSTART;TZID=America/Los_Angeles:20231214T110000
DTEND;TZID=America/Los_Angeles:20231214T120000
DTSTAMP:20260421T143056
CREATED:20231211T191824Z
LAST-MODIFIED:20231211T191824Z
UID:43187-1702551600-1702555200@anewcareer.org
SUMMARY:CDL Program Info Session
DESCRIPTION:We are excited to announce two upcoming informational sessions for the CDL Class B with Passenger endorsement Cohort starting on 01/22/2024. To ensure we tailor these sessions to meet your needs and expectations\, please register here: https://forms.office.com/r/q9uLHhm0B6. \nRegister Now!
URL:https://anewcareer.org/event/cdl-program-info-session-3/
LOCATION:ANEW Main Office\, 18338 Andover Park W.\, Tukwila\, WA\, 98188\, United States
CATEGORIES:Info Sessions
END:VEVENT
BEGIN:VEVENT
DTSTART;TZID=America/Los_Angeles:20231214T130000
DTEND;TZID=America/Los_Angeles:20231214T150000
DTSTAMP:20260421T143056
CREATED:20231108T235148Z
LAST-MODIFIED:20231205T190943Z
UID:43021-1702558800-1702566000@anewcareer.org
SUMMARY:ANEW's PACE 41 Graduation - Snohomish
DESCRIPTION:Join us as we celebrate the graduation of our PACE 41 class! \nEvery student has worked hard to complete our pre-apprenticeship training and will be heading out into the construction industry from here – come send them off well! Be inspired by the stories of our students and guest speaker who all have had their lives changed by having access to a skilled trades career. \nRefreshments and food provided.
URL:https://anewcareer.org/event/anews-pace-41-graduation-snohomish/
LOCATION:Western Washington Sheet Metal JATC\, 11831 Beverly Park Rd\, Everett\, 98204\, United States
CATEGORIES:Info Sessions,Other Events,PACE Cohort Event
END:VEVENT
BEGIN:VEVENT
DTSTART;TZID=America/Los_Angeles:20231214T120000
DTEND;TZID=America/Los_Angeles:20231214T130000
DTSTAMP:20260421T143056
CREATED:20231211T191935Z
LAST-MODIFIED:20231211T191935Z
UID:43189-1702555200-1702558800@anewcareer.org
SUMMARY:CDL Program Info Session
DESCRIPTION:We are excited to announce two upcoming informational sessions for the CDL Class B with Passenger endorsement Cohort starting on 01/22/2024. To ensure we tailor these sessions to meet your needs and expectations\, please register here: https://forms.office.com/r/q9uLHhm0B6. \nRegister Now!
URL:https://anewcareer.org/event/cdl-program-info-session-4/
LOCATION:ANEW Main Office\, 18338 Andover Park W.\, Tukwila\, WA\, 98188\, United States
CATEGORIES:Info Sessions
END:VEVENT
BEGIN:VEVENT
DTSTART;TZID=America/Los_Angeles:20231215T140000
DTEND;TZID=America/Los_Angeles:20231215T160000
DTSTAMP:20260421T143056
CREATED:20231211T192041Z
LAST-MODIFIED:20231211T192131Z
UID:43191-1702648800-1702656000@anewcareer.org
SUMMARY:CDL Program Info Session
DESCRIPTION:We are excited to announce two upcoming informational sessions for the CDL Class B with Passenger endorsement Cohort starting on 01/22/2024. To ensure we tailor these sessions to meet your needs and expectations\, please register here: https://forms.office.com/r/q9uLHhm0B6. \nRegister Now!
URL:https://anewcareer.org/event/cdl-program-info-session-5/
LOCATION:ANEW Main Office\, 18338 Andover Park W.\, Tukwila\, WA\, 98188\, United States
CATEGORIES:Info Sessions
END:VEVENT
BEGIN:VEVENT
DTSTART;TZID=America/Los_Angeles:20240917T100000
DTEND;TZID=America/Los_Angeles:20240917T110000
DTSTAMP:20260421T143056
CREATED:20240916T202513Z
LAST-MODIFIED:20240916T202759Z
UID:43799-1726567200-1726570800@anewcareer.org
SUMMARY:Pre-Apprenticeship Info Session-In Person
DESCRIPTION:
URL:https://anewcareer.org/event/info-session-in-person/
LOCATION:ANEW Main Office\, 18338 Andover Park W.\, Tukwila\, WA\, 98188\, United States
CATEGORIES:Info Sessions
END:VEVENT
BEGIN:VEVENT
DTSTART;TZID=America/Los_Angeles:20240919T140000
DTEND;TZID=America/Los_Angeles:20240919T150000
DTSTAMP:20260421T143056
CREATED:20240916T203352Z
LAST-MODIFIED:20250813T213048Z
UID:43805-1726754400-1726758000@anewcareer.org
SUMMARY:Pre-Apprenticeship Info Session-In Person
DESCRIPTION:Join us for an info session to learn about our construction pre-apprenticeship training program—open to anyone interested in exploring the program or applying.
URL:https://anewcareer.org/event/pre-apprenticeship-info-session-in-person/
LOCATION:ANEW Main Office\, 18338 Andover Park W.\, Tukwila\, WA\, 98188\, United States
CATEGORIES:Info Sessions
END:VEVENT
BEGIN:VEVENT
DTSTART;TZID=America/Los_Angeles:20240923T070000
DTEND;TZID=America/Los_Angeles:20240923T160000
DTSTAMP:20260421T143056
CREATED:20240916T204256Z
LAST-MODIFIED:20240916T204700Z
UID:43810-1727074800-1727107200@anewcareer.org
SUMMARY:TRP 125 Cohort
DESCRIPTION:
URL:https://anewcareer.org/event/trp-125-cohort/
CATEGORIES:TRP Cohort Event
END:VEVENT
BEGIN:VEVENT
DTSTART;TZID=America/Los_Angeles:20240917T100000
DTEND;TZID=America/Los_Angeles:20240917T110000
DTSTAMP:20260421T143056
CREATED:20240916T202513Z
LAST-MODIFIED:20240916T202759Z
UID:43799-1726567200-1726570800@anewcareer.org
SUMMARY:Pre-Apprenticeship Info Session-In Person
DESCRIPTION:
URL:https://anewcareer.org/event/info-session-in-person/
LOCATION:ANEW Main Office\, 18338 Andover Park W.\, Tukwila\, WA\, 98188\, United States
CATEGORIES:Info Sessions
END:VEVENT
BEGIN:VEVENT
DTSTART;TZID=America/Los_Angeles:20240919T140000
DTEND;TZID=America/Los_Angeles:20240919T150000
DTSTAMP:20260421T143056
CREATED:20240916T203352Z
LAST-MODIFIED:20250813T213048Z
UID:43805-1726754400-1726758000@anewcareer.org
SUMMARY:Pre-Apprenticeship Info Session-In Person
DESCRIPTION:Join us for an info session to learn about our construction pre-apprenticeship training program—open to anyone interested in exploring the program or applying.
URL:https://anewcareer.org/event/pre-apprenticeship-info-session-in-person/
LOCATION:ANEW Main Office\, 18338 Andover Park W.\, Tukwila\, WA\, 98188\, United States
CATEGORIES:Info Sessions
END:VEVENT
BEGIN:VEVENT
DTSTART;TZID=America/Los_Angeles:20240930T063000
DTEND;TZID=America/Los_Angeles:20240930T150000
DTSTAMP:20260421T143056
CREATED:20240916T204154Z
LAST-MODIFIED:20240916T204620Z
UID:43808-1727677800-1727708400@anewcareer.org
SUMMARY:PACE 50 Cohort
DESCRIPTION:
URL:https://anewcareer.org/event/pace-50-cohort/
CATEGORIES:PACE Cohort Event
END:VEVENT
BEGIN:VEVENT
DTSTART;TZID=America/Los_Angeles:20240917T100000
DTEND;TZID=America/Los_Angeles:20240917T110000
DTSTAMP:20260421T143056
CREATED:20240916T202513Z
LAST-MODIFIED:20240916T202759Z
UID:43799-1726567200-1726570800@anewcareer.org
SUMMARY:Pre-Apprenticeship Info Session-In Person
DESCRIPTION:
URL:https://anewcareer.org/event/info-session-in-person/
LOCATION:ANEW Main Office\, 18338 Andover Park W.\, Tukwila\, WA\, 98188\, United States
CATEGORIES:Info Sessions
END:VEVENT
BEGIN:VEVENT
DTSTART;TZID=America/Los_Angeles:20240919T140000
DTEND;TZID=America/Los_Angeles:20240919T150000
DTSTAMP:20260421T143056
CREATED:20240916T203352Z
LAST-MODIFIED:20250813T213048Z
UID:43805-1726754400-1726758000@anewcareer.org
SUMMARY:Pre-Apprenticeship Info Session-In Person
DESCRIPTION:Join us for an info session to learn about our construction pre-apprenticeship training program—open to anyone interested in exploring the program or applying.
URL:https://anewcareer.org/event/pre-apprenticeship-info-session-in-person/
LOCATION:ANEW Main Office\, 18338 Andover Park W.\, Tukwila\, WA\, 98188\, United States
CATEGORIES:Info Sessions
END:VEVENT
BEGIN:VEVENT
DTSTART;TZID=America/Los_Angeles:20240917T100000
DTEND;TZID=America/Los_Angeles:20240917T110000
DTSTAMP:20260421T143056
CREATED:20240916T202513Z
LAST-MODIFIED:20240916T202759Z
UID:43799-1726567200-1726570800@anewcareer.org
SUMMARY:Pre-Apprenticeship Info Session-In Person
DESCRIPTION:
URL:https://anewcareer.org/event/info-session-in-person/
LOCATION:ANEW Main Office\, 18338 Andover Park W.\, Tukwila\, WA\, 98188\, United States
CATEGORIES:Info Sessions
END:VEVENT
BEGIN:VEVENT
DTSTART;TZID=America/Los_Angeles:20240919T140000
DTEND;TZID=America/Los_Angeles:20240919T150000
DTSTAMP:20260421T143056
CREATED:20240916T203352Z
LAST-MODIFIED:20250813T213048Z
UID:43805-1726754400-1726758000@anewcareer.org
SUMMARY:Pre-Apprenticeship Info Session-In Person
DESCRIPTION:Join us for an info session to learn about our construction pre-apprenticeship training program—open to anyone interested in exploring the program or applying.
URL:https://anewcareer.org/event/pre-apprenticeship-info-session-in-person/
LOCATION:ANEW Main Office\, 18338 Andover Park W.\, Tukwila\, WA\, 98188\, United States
CATEGORIES:Info Sessions
END:VEVENT
BEGIN:VEVENT
DTSTART;TZID=America/Los_Angeles:20241010T160000
DTEND;TZID=America/Los_Angeles:20241010T200000
DTSTAMP:20260421T143056
CREATED:20240913T213544Z
LAST-MODIFIED:20240913T215144Z
UID:43783-1728576000-1728590400@anewcareer.org
SUMMARY:Build with Pride Seattle
DESCRIPTION:2024 BWPS RESOURCE RENDEZVOUS_flyer (1)
URL:https://anewcareer.org/event/build-with-pride-seattle/
LOCATION:ANEW Main Office\, 18338 Andover Park W.\, Tukwila\, WA\, 98188\, United States
CATEGORIES:Diversity & Inclusion,Outreach Events / Community Service
END:VEVENT
BEGIN:VEVENT
DTSTART;TZID=America/Los_Angeles:20240917T100000
DTEND;TZID=America/Los_Angeles:20240917T110000
DTSTAMP:20260421T143056
CREATED:20240916T202513Z
LAST-MODIFIED:20240916T202759Z
UID:43799-1726567200-1726570800@anewcareer.org
SUMMARY:Pre-Apprenticeship Info Session-In Person
DESCRIPTION:
URL:https://anewcareer.org/event/info-session-in-person/
LOCATION:ANEW Main Office\, 18338 Andover Park W.\, Tukwila\, WA\, 98188\, United States
CATEGORIES:Info Sessions
END:VEVENT
BEGIN:VEVENT
DTSTART;TZID=America/Los_Angeles:20240919T140000
DTEND;TZID=America/Los_Angeles:20240919T150000
DTSTAMP:20260421T143056
CREATED:20240916T203352Z
LAST-MODIFIED:20250813T213048Z
UID:43805-1726754400-1726758000@anewcareer.org
SUMMARY:Pre-Apprenticeship Info Session-In Person
DESCRIPTION:Join us for an info session to learn about our construction pre-apprenticeship training program—open to anyone interested in exploring the program or applying.
URL:https://anewcareer.org/event/pre-apprenticeship-info-session-in-person/
LOCATION:ANEW Main Office\, 18338 Andover Park W.\, Tukwila\, WA\, 98188\, United States
CATEGORIES:Info Sessions
END:VEVENT
BEGIN:VEVENT
DTSTART;TZID=America/Los_Angeles:20240917T100000
DTEND;TZID=America/Los_Angeles:20240917T110000
DTSTAMP:20260421T143056
CREATED:20240916T202513Z
LAST-MODIFIED:20240916T202759Z
UID:43799-1726567200-1726570800@anewcareer.org
SUMMARY:Pre-Apprenticeship Info Session-In Person
DESCRIPTION:
URL:https://anewcareer.org/event/info-session-in-person/
LOCATION:ANEW Main Office\, 18338 Andover Park W.\, Tukwila\, WA\, 98188\, United States
CATEGORIES:Info Sessions
END:VEVENT
BEGIN:VEVENT
DTSTART;TZID=America/Los_Angeles:20240919T140000
DTEND;TZID=America/Los_Angeles:20240919T150000
DTSTAMP:20260421T143056
CREATED:20240916T203352Z
LAST-MODIFIED:20250813T213048Z
UID:43805-1726754400-1726758000@anewcareer.org
SUMMARY:Pre-Apprenticeship Info Session-In Person
DESCRIPTION:Join us for an info session to learn about our construction pre-apprenticeship training program—open to anyone interested in exploring the program or applying.
URL:https://anewcareer.org/event/pre-apprenticeship-info-session-in-person/
LOCATION:ANEW Main Office\, 18338 Andover Park W.\, Tukwila\, WA\, 98188\, United States
CATEGORIES:Info Sessions
END:VEVENT
BEGIN:VEVENT
DTSTART;TZID=America/Los_Angeles:20240917T100000
DTEND;TZID=America/Los_Angeles:20240917T110000
DTSTAMP:20260421T143056
CREATED:20240916T202513Z
LAST-MODIFIED:20240916T202759Z
UID:43799-1726567200-1726570800@anewcareer.org
SUMMARY:Pre-Apprenticeship Info Session-In Person
DESCRIPTION:
URL:https://anewcareer.org/event/info-session-in-person/
LOCATION:ANEW Main Office\, 18338 Andover Park W.\, Tukwila\, WA\, 98188\, United States
CATEGORIES:Info Sessions
END:VEVENT
BEGIN:VEVENT
DTSTART;TZID=America/Los_Angeles:20240919T140000
DTEND;TZID=America/Los_Angeles:20240919T150000
DTSTAMP:20260421T143056
CREATED:20240916T203352Z
LAST-MODIFIED:20250813T213048Z
UID:43805-1726754400-1726758000@anewcareer.org
SUMMARY:Pre-Apprenticeship Info Session-In Person
DESCRIPTION:Join us for an info session to learn about our construction pre-apprenticeship training program—open to anyone interested in exploring the program or applying.
URL:https://anewcareer.org/event/pre-apprenticeship-info-session-in-person/
LOCATION:ANEW Main Office\, 18338 Andover Park W.\, Tukwila\, WA\, 98188\, United States
CATEGORIES:Info Sessions
END:VEVENT
BEGIN:VEVENT
DTSTART;TZID=America/Los_Angeles:20241101T100000
DTEND;TZID=America/Los_Angeles:20241101T130000
DTSTAMP:20260421T143056
CREATED:20241029T190852Z
LAST-MODIFIED:20241029T192432Z
UID:43918-1730455200-1730466000@anewcareer.org
SUMMARY:T-Town: City Services Expo & Job Fair
DESCRIPTION:TradesFair
URL:https://anewcareer.org/event/tps-korsmo-construction-trades-hiring-fair/
LOCATION:Tacoma Dome\, 2727 E D Street\, Tacoma\, WA\, 98421\, United States
END:VEVENT
BEGIN:VEVENT
DTSTART;TZID=America/Los_Angeles:20241101T100000
DTEND;TZID=America/Los_Angeles:20241101T140000
DTSTAMP:20260421T143056
CREATED:20241029T200701Z
LAST-MODIFIED:20241029T200701Z
UID:43954-1730455200-1730469600@anewcareer.org
SUMMARY:Health & Wellness Resource Fair
DESCRIPTION:
URL:https://anewcareer.org/event/health-wellness-resource-fair/
LOCATION:The Reserve at Seatac\, 19707 International Blvd.\, Seatac\, WA\, 98188
END:VEVENT
BEGIN:VEVENT
DTSTART;TZID=America/Los_Angeles:20241102T100000
DTEND;TZID=America/Los_Angeles:20241102T150000
DTSTAMP:20260421T143056
CREATED:20241029T192134Z
LAST-MODIFIED:20241029T192134Z
UID:43923-1730541600-1730559600@anewcareer.org
SUMMARY:T-Town: City Services Expo & Job Fair
DESCRIPTION:TradesFair
URL:https://anewcareer.org/event/t-town-city-services-expo-job-fair/
LOCATION:Tacoma Dome\, 2727 E D Street\, Tacoma\, WA\, 98421\, United States
END:VEVENT
END:VCALENDAR