BEGIN:VCALENDAR
VERSION:2.0
PRODID:-//ANEW - ECPv6.15.20//NONSGML v1.0//EN
CALSCALE:GREGORIAN
METHOD:PUBLISH
X-WR-CALNAME:ANEW
X-ORIGINAL-URL:https://anewcareer.org
X-WR-CALDESC:Events for ANEW
REFRESH-INTERVAL;VALUE=DURATION:PT1H
X-Robots-Tag:noindex
X-PUBLISHED-TTL:PT1H
BEGIN:VTIMEZONE
TZID:America/Los_Angeles
BEGIN:DAYLIGHT
TZOFFSETFROM:-0800
TZOFFSETTO:-0700
TZNAME:PDT
DTSTART:20200308T100000
END:DAYLIGHT
BEGIN:STANDARD
TZOFFSETFROM:-0700
TZOFFSETTO:-0800
TZNAME:PST
DTSTART:20201101T090000
END:STANDARD
BEGIN:DAYLIGHT
TZOFFSETFROM:-0800
TZOFFSETTO:-0700
TZNAME:PDT
DTSTART:20210314T100000
END:DAYLIGHT
BEGIN:STANDARD
TZOFFSETFROM:-0700
TZOFFSETTO:-0800
TZNAME:PST
DTSTART:20211107T090000
END:STANDARD
BEGIN:DAYLIGHT
TZOFFSETFROM:-0800
TZOFFSETTO:-0700
TZNAME:PDT
DTSTART:20220313T100000
END:DAYLIGHT
BEGIN:STANDARD
TZOFFSETFROM:-0700
TZOFFSETTO:-0800
TZNAME:PST
DTSTART:20221106T090000
END:STANDARD
END:VTIMEZONE
BEGIN:VEVENT
DTSTART;TZID=America/Los_Angeles:20211008T130000
DTEND;TZID=America/Los_Angeles:20211008T140000
DTSTAMP:20260422T064320
CREATED:20211008T165657Z
LAST-MODIFIED:20211207T221340Z
UID:35462-1633698000-1633701600@anewcareer.org
SUMMARY:In-Person Info Session @ PEER KENT
DESCRIPTION:*Please be on time!* \nRegister in advance for this meeting:\nClick here to register \nIf you have a definite interest\, click on the link below to complete the enrollment form and send to info@anewaop.org.\nEnrollment Form_2021_update_7_15
URL:https://anewcareer.org/event/in-person-info-session-peer-kent/
LOCATION:WA
END:VEVENT
BEGIN:VEVENT
DTSTART;TZID=America/Los_Angeles:20211008T130000
DTEND;TZID=America/Los_Angeles:20211008T140000
DTSTAMP:20260422T064320
CREATED:20211008T165657Z
LAST-MODIFIED:20211207T221340Z
UID:35462-1633698000-1633701600@anewcareer.org
SUMMARY:In-Person Info Session @ PEER KENT
DESCRIPTION:*Please be on time!* \nRegister in advance for this meeting:\nClick here to register \nIf you have a definite interest\, click on the link below to complete the enrollment form and send to info@anewaop.org.\nEnrollment Form_2021_update_7_15
URL:https://anewcareer.org/event/in-person-info-session-peer-kent/
LOCATION:WA
END:VEVENT
BEGIN:VEVENT
DTSTART;TZID=America/Los_Angeles:20210811T140000
DTEND;TZID=America/Los_Angeles:20210811T150000
DTSTAMP:20260422T064320
CREATED:20210810T194250Z
LAST-MODIFIED:20210817T154221Z
UID:35215-1628690400-1628694000@anewcareer.org
SUMMARY:Pacific County CBC Info Session - Virtual
DESCRIPTION:*Please be on time!* \nRegister in advance for this meeting:\nClick here to register \nAfter registering\, you will receive a confirmation email containing information about joining the meeting.
URL:https://anewcareer.org/event/cbc-info-session-virtual/
LOCATION:WA
CATEGORIES:Info Sessions
END:VEVENT
BEGIN:VEVENT
DTSTART;TZID=America/Los_Angeles:20210811T140000
DTEND;TZID=America/Los_Angeles:20210811T150000
DTSTAMP:20260422T064320
CREATED:20210810T194250Z
LAST-MODIFIED:20210817T154221Z
UID:35215-1628690400-1628694000@anewcareer.org
SUMMARY:Pacific County CBC Info Session - Virtual
DESCRIPTION:*Please be on time!* \nRegister in advance for this meeting:\nClick here to register \nAfter registering\, you will receive a confirmation email containing information about joining the meeting.
URL:https://anewcareer.org/event/cbc-info-session-virtual/
LOCATION:WA
CATEGORIES:Info Sessions
END:VEVENT
BEGIN:VEVENT
DTSTART;TZID=America/Los_Angeles:20210811T140000
DTEND;TZID=America/Los_Angeles:20210811T150000
DTSTAMP:20260422T064320
CREATED:20210810T194250Z
LAST-MODIFIED:20210817T154221Z
UID:35215-1628690400-1628694000@anewcareer.org
SUMMARY:Pacific County CBC Info Session - Virtual
DESCRIPTION:*Please be on time!* \nRegister in advance for this meeting:\nClick here to register \nAfter registering\, you will receive a confirmation email containing information about joining the meeting.
URL:https://anewcareer.org/event/cbc-info-session-virtual/
LOCATION:WA
CATEGORIES:Info Sessions
END:VEVENT
BEGIN:VEVENT
DTSTART;TZID=America/Los_Angeles:20210811T140000
DTEND;TZID=America/Los_Angeles:20210811T150000
DTSTAMP:20260422T064320
CREATED:20210810T194250Z
LAST-MODIFIED:20210817T154221Z
UID:35215-1628690400-1628694000@anewcareer.org
SUMMARY:Pacific County CBC Info Session - Virtual
DESCRIPTION:*Please be on time!* \nRegister in advance for this meeting:\nClick here to register \nAfter registering\, you will receive a confirmation email containing information about joining the meeting.
URL:https://anewcareer.org/event/cbc-info-session-virtual/
LOCATION:WA
CATEGORIES:Info Sessions
END:VEVENT
BEGIN:VEVENT
DTSTART;TZID=America/Los_Angeles:20210811T140000
DTEND;TZID=America/Los_Angeles:20210811T150000
DTSTAMP:20260422T064320
CREATED:20210810T194250Z
LAST-MODIFIED:20210817T154221Z
UID:35215-1628690400-1628694000@anewcareer.org
SUMMARY:Pacific County CBC Info Session - Virtual
DESCRIPTION:*Please be on time!* \nRegister in advance for this meeting:\nClick here to register \nAfter registering\, you will receive a confirmation email containing information about joining the meeting.
URL:https://anewcareer.org/event/cbc-info-session-virtual/
LOCATION:WA
CATEGORIES:Info Sessions
END:VEVENT
BEGIN:VEVENT
DTSTART;TZID=America/Los_Angeles:20210811T140000
DTEND;TZID=America/Los_Angeles:20210811T150000
DTSTAMP:20260422T064320
CREATED:20210810T194250Z
LAST-MODIFIED:20210817T154221Z
UID:35215-1628690400-1628694000@anewcareer.org
SUMMARY:Pacific County CBC Info Session - Virtual
DESCRIPTION:*Please be on time!* \nRegister in advance for this meeting:\nClick here to register \nAfter registering\, you will receive a confirmation email containing information about joining the meeting.
URL:https://anewcareer.org/event/cbc-info-session-virtual/
LOCATION:WA
CATEGORIES:Info Sessions
END:VEVENT
BEGIN:VEVENT
DTSTART;TZID=America/Los_Angeles:20210811T140000
DTEND;TZID=America/Los_Angeles:20210811T150000
DTSTAMP:20260422T064320
CREATED:20210810T194250Z
LAST-MODIFIED:20210817T154221Z
UID:35215-1628690400-1628694000@anewcareer.org
SUMMARY:Pacific County CBC Info Session - Virtual
DESCRIPTION:*Please be on time!* \nRegister in advance for this meeting:\nClick here to register \nAfter registering\, you will receive a confirmation email containing information about joining the meeting.
URL:https://anewcareer.org/event/cbc-info-session-virtual/
LOCATION:WA
CATEGORIES:Info Sessions
END:VEVENT
BEGIN:VEVENT
DTSTART;TZID=America/Los_Angeles:20210811T140000
DTEND;TZID=America/Los_Angeles:20210811T150000
DTSTAMP:20260422T064320
CREATED:20210810T194250Z
LAST-MODIFIED:20210817T154221Z
UID:35215-1628690400-1628694000@anewcareer.org
SUMMARY:Pacific County CBC Info Session - Virtual
DESCRIPTION:*Please be on time!* \nRegister in advance for this meeting:\nClick here to register \nAfter registering\, you will receive a confirmation email containing information about joining the meeting.
URL:https://anewcareer.org/event/cbc-info-session-virtual/
LOCATION:WA
CATEGORIES:Info Sessions
END:VEVENT
BEGIN:VEVENT
DTSTART;TZID=America/Los_Angeles:20210603T180000
DTEND;TZID=America/Los_Angeles:20210603T190000
DTSTAMP:20260422T064320
CREATED:20210525T230129Z
LAST-MODIFIED:20210715T205501Z
UID:34518-1622743200-1622746800@anewcareer.org
SUMMARY:Pre-Apprenticeship Program Info Session – Zoom on Thursdays
DESCRIPTION:*Please be on time!* \nRegister in advance for this meeting:\nClick here to register \nAfter registering\, you will receive a confirmation email containing information about joining the meeting. \nIf you have a definite interest\, click on the link below to complete the enrollment form and send to info@anewaop.org.\nEnrollment Form_2021_update_7_15
URL:https://anewcareer.org/event/pre-apprenticeship-program-info-session-zoom-on-thursdays-2/
LOCATION:WA
CATEGORIES:Info Sessions
END:VEVENT
BEGIN:VEVENT
DTSTART;TZID=America/Los_Angeles:20210605T100000
DTEND;TZID=America/Los_Angeles:20210605T110000
DTSTAMP:20260422T064320
CREATED:20210525T223112Z
LAST-MODIFIED:20210617T221245Z
UID:34488-1622887200-1622890800@anewcareer.org
SUMMARY:Pre-Apprenticeship Program Info Session – Zoom on Saturdays
DESCRIPTION:*Please be on time!* \nRegister in advance for this meeting:\nClick here to register \nAfter registering\, you will receive a confirmation email containing information about joining the meeting. \nIf you have a definite interest\, click on the link below to complete the enrollment form and send to info@anewaop.org.\nEnrollment Form_2021_update_6_1
URL:https://anewcareer.org/event/pre-apprenticeship-program-info-session-zoom-on-thursdays/
LOCATION:WA
CATEGORIES:Info Sessions
END:VEVENT
BEGIN:VEVENT
DTSTART;TZID=America/Los_Angeles:20210603T180000
DTEND;TZID=America/Los_Angeles:20210603T190000
DTSTAMP:20260422T064320
CREATED:20210525T230129Z
LAST-MODIFIED:20210715T205501Z
UID:34518-1622743200-1622746800@anewcareer.org
SUMMARY:Pre-Apprenticeship Program Info Session – Zoom on Thursdays
DESCRIPTION:*Please be on time!* \nRegister in advance for this meeting:\nClick here to register \nAfter registering\, you will receive a confirmation email containing information about joining the meeting. \nIf you have a definite interest\, click on the link below to complete the enrollment form and send to info@anewaop.org.\nEnrollment Form_2021_update_7_15
URL:https://anewcareer.org/event/pre-apprenticeship-program-info-session-zoom-on-thursdays-2/
LOCATION:WA
CATEGORIES:Info Sessions
END:VEVENT
BEGIN:VEVENT
DTSTART;TZID=America/Los_Angeles:20210622T130000
DTEND;TZID=America/Los_Angeles:20210622T140000
DTSTAMP:20260422T064320
CREATED:20210617T220610Z
LAST-MODIFIED:20210617T220905Z
UID:34641-1624366800-1624370400@anewcareer.org
SUMMARY:DuPont In-Person Info Session
DESCRIPTION:*Please be on time!* \nRegister in advance for this meeting:\nClick here to register \nIf you have a definite interest\, click on the link below to complete the enrollment form and send to info@anewaop.org.\nEnrollment Form_2021_update_6_1
URL:https://anewcareer.org/event/dupont-in-person-info-session/
LOCATION:DuPont WWSSJATC\, 2725 Williamson Place Suite 100\, DuPont\, WA\, 98327\, United States
CATEGORIES:Info Sessions
END:VEVENT
BEGIN:VEVENT
DTSTART;TZID=America/Los_Angeles:20210624T100000
DTEND;TZID=America/Los_Angeles:20210624T110000
DTSTAMP:20260422T064320
CREATED:20210617T215927Z
LAST-MODIFIED:20210701T205818Z
UID:34637-1624528800-1624532400@anewcareer.org
SUMMARY:Everett In-Person Info Session
DESCRIPTION:*Please be on time!* \nRegister in advance for this meeting:\nClick here to register \nIf you have a definite interest\, click on the link below to complete the enrollment form and send to info@anewaop.org.\nEnrollment Form_2021_update_6_1
URL:https://anewcareer.org/event/everett-in-person-info-session/
LOCATION:Everett WWSSJATC\, 11831 Beverly Park Road B-1\, Everett\, WA\, 98204\, United States
CATEGORIES:Info Sessions
END:VEVENT
BEGIN:VEVENT
DTSTART;TZID=America/Los_Angeles:20210624T100000
DTEND;TZID=America/Los_Angeles:20210624T110000
DTSTAMP:20260422T064320
CREATED:20210617T215927Z
LAST-MODIFIED:20210701T205818Z
UID:34637-1624528800-1624532400@anewcareer.org
SUMMARY:Everett In-Person Info Session
DESCRIPTION:*Please be on time!* \nRegister in advance for this meeting:\nClick here to register \nIf you have a definite interest\, click on the link below to complete the enrollment form and send to info@anewaop.org.\nEnrollment Form_2021_update_6_1
URL:https://anewcareer.org/event/everett-in-person-info-session/
LOCATION:Everett WWSSJATC\, 11831 Beverly Park Road B-1\, Everett\, WA\, 98204\, United States
CATEGORIES:Info Sessions
END:VEVENT
BEGIN:VEVENT
DTSTART;TZID=America/Los_Angeles:20210603T180000
DTEND;TZID=America/Los_Angeles:20210603T190000
DTSTAMP:20260422T064320
CREATED:20210525T230129Z
LAST-MODIFIED:20210715T205501Z
UID:34518-1622743200-1622746800@anewcareer.org
SUMMARY:Pre-Apprenticeship Program Info Session – Zoom on Thursdays
DESCRIPTION:*Please be on time!* \nRegister in advance for this meeting:\nClick here to register \nAfter registering\, you will receive a confirmation email containing information about joining the meeting. \nIf you have a definite interest\, click on the link below to complete the enrollment form and send to info@anewaop.org.\nEnrollment Form_2021_update_7_15
URL:https://anewcareer.org/event/pre-apprenticeship-program-info-session-zoom-on-thursdays-2/
LOCATION:WA
CATEGORIES:Info Sessions
END:VEVENT
BEGIN:VEVENT
DTSTART;TZID=America/Los_Angeles:20210624T100000
DTEND;TZID=America/Los_Angeles:20210624T110000
DTSTAMP:20260422T064320
CREATED:20210617T215927Z
LAST-MODIFIED:20210701T205818Z
UID:34637-1624528800-1624532400@anewcareer.org
SUMMARY:Everett In-Person Info Session
DESCRIPTION:*Please be on time!* \nRegister in advance for this meeting:\nClick here to register \nIf you have a definite interest\, click on the link below to complete the enrollment form and send to info@anewaop.org.\nEnrollment Form_2021_update_6_1
URL:https://anewcareer.org/event/everett-in-person-info-session/
LOCATION:Everett WWSSJATC\, 11831 Beverly Park Road B-1\, Everett\, WA\, 98204\, United States
CATEGORIES:Info Sessions
END:VEVENT
BEGIN:VEVENT
DTSTART;TZID=America/Los_Angeles:20210622T130000
DTEND;TZID=America/Los_Angeles:20210622T140000
DTSTAMP:20260422T064320
CREATED:20210617T220610Z
LAST-MODIFIED:20210617T220905Z
UID:34641-1624366800-1624370400@anewcareer.org
SUMMARY:DuPont In-Person Info Session
DESCRIPTION:*Please be on time!* \nRegister in advance for this meeting:\nClick here to register \nIf you have a definite interest\, click on the link below to complete the enrollment form and send to info@anewaop.org.\nEnrollment Form_2021_update_6_1
URL:https://anewcareer.org/event/dupont-in-person-info-session/
LOCATION:DuPont WWSSJATC\, 2725 Williamson Place Suite 100\, DuPont\, WA\, 98327\, United States
CATEGORIES:Info Sessions
END:VEVENT
BEGIN:VEVENT
DTSTART;TZID=America/Los_Angeles:20210605T100000
DTEND;TZID=America/Los_Angeles:20210605T110000
DTSTAMP:20260422T064320
CREATED:20210525T223112Z
LAST-MODIFIED:20210617T221245Z
UID:34488-1622887200-1622890800@anewcareer.org
SUMMARY:Pre-Apprenticeship Program Info Session – Zoom on Saturdays
DESCRIPTION:*Please be on time!* \nRegister in advance for this meeting:\nClick here to register \nAfter registering\, you will receive a confirmation email containing information about joining the meeting. \nIf you have a definite interest\, click on the link below to complete the enrollment form and send to info@anewaop.org.\nEnrollment Form_2021_update_6_1
URL:https://anewcareer.org/event/pre-apprenticeship-program-info-session-zoom-on-thursdays/
LOCATION:WA
CATEGORIES:Info Sessions
END:VEVENT
BEGIN:VEVENT
DTSTART;TZID=America/Los_Angeles:20210603T180000
DTEND;TZID=America/Los_Angeles:20210603T190000
DTSTAMP:20260422T064320
CREATED:20210525T230129Z
LAST-MODIFIED:20210715T205501Z
UID:34518-1622743200-1622746800@anewcareer.org
SUMMARY:Pre-Apprenticeship Program Info Session – Zoom on Thursdays
DESCRIPTION:*Please be on time!* \nRegister in advance for this meeting:\nClick here to register \nAfter registering\, you will receive a confirmation email containing information about joining the meeting. \nIf you have a definite interest\, click on the link below to complete the enrollment form and send to info@anewaop.org.\nEnrollment Form_2021_update_7_15
URL:https://anewcareer.org/event/pre-apprenticeship-program-info-session-zoom-on-thursdays-2/
LOCATION:WA
CATEGORIES:Info Sessions
END:VEVENT
BEGIN:VEVENT
DTSTART;TZID=America/Los_Angeles:20210624T100000
DTEND;TZID=America/Los_Angeles:20210624T110000
DTSTAMP:20260422T064320
CREATED:20210617T215927Z
LAST-MODIFIED:20210701T205818Z
UID:34637-1624528800-1624532400@anewcareer.org
SUMMARY:Everett In-Person Info Session
DESCRIPTION:*Please be on time!* \nRegister in advance for this meeting:\nClick here to register \nIf you have a definite interest\, click on the link below to complete the enrollment form and send to info@anewaop.org.\nEnrollment Form_2021_update_6_1
URL:https://anewcareer.org/event/everett-in-person-info-session/
LOCATION:Everett WWSSJATC\, 11831 Beverly Park Road B-1\, Everett\, WA\, 98204\, United States
CATEGORIES:Info Sessions
END:VEVENT
BEGIN:VEVENT
DTSTART;TZID=America/Los_Angeles:20210603T100000
DTEND;TZID=America/Los_Angeles:20210603T110000
DTSTAMP:20260422T064320
CREATED:20210528T173032Z
LAST-MODIFIED:20210528T173032Z
UID:34551-1622714400-1622718000@anewcareer.org
SUMMARY:2021 Diversity & Inclusion Summit - Virtual Workshops
DESCRIPTION:With the expectations of productivity\, sustainability\, continuity\, and jobsite culture\,\nin addition to organizational regulations\, it is imperative to implement a holistic approach to inclusive workplaces and be outfitted with the resources to do so. Join us for these virtual workshops leading up to our main\, in-person event on July 22nd at the Tacoma Convention Center. \nJune 3rd: Creating Inclusivity & Best Practices for Transgender and Gender Diverse Employees with Morgan Mentzer \nJune 10th: Psychological Safety on the Jobsite with Kabri Lehrman-Schmid \nJune 17th: Best Practices/Incident Training with Karen Dove \nJune 24th: Building Trust to Create Inclusive Cultures in the Workplace with Seconde Nimenya \nPlease register in advance for these webinars.
URL:https://anewcareer.org/event/2021-diversity-inclusion-summit-virtual-workshops/
LOCATION:WA
CATEGORIES:Other Events
END:VEVENT
BEGIN:VEVENT
DTSTART;TZID=America/Los_Angeles:20210622T130000
DTEND;TZID=America/Los_Angeles:20210622T140000
DTSTAMP:20260422T064320
CREATED:20210617T220610Z
LAST-MODIFIED:20210617T220905Z
UID:34641-1624366800-1624370400@anewcareer.org
SUMMARY:DuPont In-Person Info Session
DESCRIPTION:*Please be on time!* \nRegister in advance for this meeting:\nClick here to register \nIf you have a definite interest\, click on the link below to complete the enrollment form and send to info@anewaop.org.\nEnrollment Form_2021_update_6_1
URL:https://anewcareer.org/event/dupont-in-person-info-session/
LOCATION:DuPont WWSSJATC\, 2725 Williamson Place Suite 100\, DuPont\, WA\, 98327\, United States
CATEGORIES:Info Sessions
END:VEVENT
BEGIN:VEVENT
DTSTART;TZID=America/Los_Angeles:20210603T180000
DTEND;TZID=America/Los_Angeles:20210603T190000
DTSTAMP:20260422T064320
CREATED:20210525T230129Z
LAST-MODIFIED:20210715T205501Z
UID:34518-1622743200-1622746800@anewcareer.org
SUMMARY:Pre-Apprenticeship Program Info Session – Zoom on Thursdays
DESCRIPTION:*Please be on time!* \nRegister in advance for this meeting:\nClick here to register \nAfter registering\, you will receive a confirmation email containing information about joining the meeting. \nIf you have a definite interest\, click on the link below to complete the enrollment form and send to info@anewaop.org.\nEnrollment Form_2021_update_7_15
URL:https://anewcareer.org/event/pre-apprenticeship-program-info-session-zoom-on-thursdays-2/
LOCATION:WA
CATEGORIES:Info Sessions
END:VEVENT
BEGIN:VEVENT
DTSTART;TZID=America/Los_Angeles:20210603T100000
DTEND;TZID=America/Los_Angeles:20210603T110000
DTSTAMP:20260422T064320
CREATED:20210528T173032Z
LAST-MODIFIED:20210528T173032Z
UID:34551-1622714400-1622718000@anewcareer.org
SUMMARY:2021 Diversity & Inclusion Summit - Virtual Workshops
DESCRIPTION:With the expectations of productivity\, sustainability\, continuity\, and jobsite culture\,\nin addition to organizational regulations\, it is imperative to implement a holistic approach to inclusive workplaces and be outfitted with the resources to do so. Join us for these virtual workshops leading up to our main\, in-person event on July 22nd at the Tacoma Convention Center. \nJune 3rd: Creating Inclusivity & Best Practices for Transgender and Gender Diverse Employees with Morgan Mentzer \nJune 10th: Psychological Safety on the Jobsite with Kabri Lehrman-Schmid \nJune 17th: Best Practices/Incident Training with Karen Dove \nJune 24th: Building Trust to Create Inclusive Cultures in the Workplace with Seconde Nimenya \nPlease register in advance for these webinars.
URL:https://anewcareer.org/event/2021-diversity-inclusion-summit-virtual-workshops/
LOCATION:WA
CATEGORIES:Other Events
END:VEVENT
BEGIN:VEVENT
DTSTART;TZID=America/Los_Angeles:20210605T100000
DTEND;TZID=America/Los_Angeles:20210605T110000
DTSTAMP:20260422T064320
CREATED:20210525T223112Z
LAST-MODIFIED:20210617T221245Z
UID:34488-1622887200-1622890800@anewcareer.org
SUMMARY:Pre-Apprenticeship Program Info Session – Zoom on Saturdays
DESCRIPTION:*Please be on time!* \nRegister in advance for this meeting:\nClick here to register \nAfter registering\, you will receive a confirmation email containing information about joining the meeting. \nIf you have a definite interest\, click on the link below to complete the enrollment form and send to info@anewaop.org.\nEnrollment Form_2021_update_6_1
URL:https://anewcareer.org/event/pre-apprenticeship-program-info-session-zoom-on-thursdays/
LOCATION:WA
CATEGORIES:Info Sessions
END:VEVENT
BEGIN:VEVENT
DTSTART;TZID=America/Los_Angeles:20210603T180000
DTEND;TZID=America/Los_Angeles:20210603T190000
DTSTAMP:20260422T064320
CREATED:20210525T230129Z
LAST-MODIFIED:20210715T205501Z
UID:34518-1622743200-1622746800@anewcareer.org
SUMMARY:Pre-Apprenticeship Program Info Session – Zoom on Thursdays
DESCRIPTION:*Please be on time!* \nRegister in advance for this meeting:\nClick here to register \nAfter registering\, you will receive a confirmation email containing information about joining the meeting. \nIf you have a definite interest\, click on the link below to complete the enrollment form and send to info@anewaop.org.\nEnrollment Form_2021_update_7_15
URL:https://anewcareer.org/event/pre-apprenticeship-program-info-session-zoom-on-thursdays-2/
LOCATION:WA
CATEGORIES:Info Sessions
END:VEVENT
BEGIN:VEVENT
DTSTART;TZID=America/Los_Angeles:20210603T100000
DTEND;TZID=America/Los_Angeles:20210603T110000
DTSTAMP:20260422T064320
CREATED:20210528T173032Z
LAST-MODIFIED:20210528T173032Z
UID:34551-1622714400-1622718000@anewcareer.org
SUMMARY:2021 Diversity & Inclusion Summit - Virtual Workshops
DESCRIPTION:With the expectations of productivity\, sustainability\, continuity\, and jobsite culture\,\nin addition to organizational regulations\, it is imperative to implement a holistic approach to inclusive workplaces and be outfitted with the resources to do so. Join us for these virtual workshops leading up to our main\, in-person event on July 22nd at the Tacoma Convention Center. \nJune 3rd: Creating Inclusivity & Best Practices for Transgender and Gender Diverse Employees with Morgan Mentzer \nJune 10th: Psychological Safety on the Jobsite with Kabri Lehrman-Schmid \nJune 17th: Best Practices/Incident Training with Karen Dove \nJune 24th: Building Trust to Create Inclusive Cultures in the Workplace with Seconde Nimenya \nPlease register in advance for these webinars.
URL:https://anewcareer.org/event/2021-diversity-inclusion-summit-virtual-workshops/
LOCATION:WA
CATEGORIES:Other Events
END:VEVENT
BEGIN:VEVENT
DTSTART;TZID=America/Los_Angeles:20210605T100000
DTEND;TZID=America/Los_Angeles:20210605T110000
DTSTAMP:20260422T064320
CREATED:20210525T223112Z
LAST-MODIFIED:20210617T221245Z
UID:34488-1622887200-1622890800@anewcareer.org
SUMMARY:Pre-Apprenticeship Program Info Session – Zoom on Saturdays
DESCRIPTION:*Please be on time!* \nRegister in advance for this meeting:\nClick here to register \nAfter registering\, you will receive a confirmation email containing information about joining the meeting. \nIf you have a definite interest\, click on the link below to complete the enrollment form and send to info@anewaop.org.\nEnrollment Form_2021_update_6_1
URL:https://anewcareer.org/event/pre-apprenticeship-program-info-session-zoom-on-thursdays/
LOCATION:WA
CATEGORIES:Info Sessions
END:VEVENT
END:VCALENDAR